BEGIN:VCALENDAR
VERSION:2.0
PRODID:http://pfarrei-posseck.de
BEGIN:VEVENT
UID:b2ff2afc-36ba-11f1-a8bf-0242ac11002b-1777566600000-de
DTSTAMP:20260412T215812Z
DTSTART:20260430T163000Z
DTEND:20260430T173000Z
SUMMARY;LANGUAGE=de:Festgottesdienst
END:VEVENT
END:VCALENDAR
